BEGIN:VCALENDAR
VERSION:2.0
PRODID:-//ChamberMaster//Event Calendar 2.0//EN
METHOD:PUBLISH
X-PUBLISHED-TTL:P3D
REFRESH-INTERVAL:P3D
CALSCALE:GREGORIAN
BEGIN:VEVENT
DTSTART:20230531T213000Z
DTEND:20230531T230000Z
X-MICROSOFT-CDO-ALLDAYEVENT:FALSE
SUMMARY:YPN: Business Spotlight
DESCRIPTION:This YPN event will bring your business to the main stage. The first ten people to sign-up will be allowed to share a little about their job and the industry they work in. Audience members will listen for our "secret words" in the speaker's presentation to enter a raffle for door prizes. A drink and a snack will be included. If you wish to purchase more than one\, please have cash on hand.
X-ALT-DESC;FMTTYPE=text/html:This YPN event will bring your business to the main stage. The first ten people to sign-up will be allowed to share a little about their job and the industry they work in. Audience members will listen for our &quot\;secret words&quot\; in the speaker&#39\;s presentation to enter a raffle for door prizes. A drink and a snack will be included. If you wish to purchase more than one\, please have cash on hand.&nbsp\;<br />\n&nbsp\;
LOCATION:Vero Beach Theatre Guild 2020 San Juan Ave\, Vero Beach\, FL 32960
UID:e.3449.5508
SEQUENCE:3
DTSTAMP:20260421T012620Z
URL:https://business.indianriverchamber.com/events/details/ypn-business-spotlight-5508
END:VEVENT

END:VCALENDAR
