BEGIN:VCALENDAR
VERSION:2.0
PRODID:-//ChamberMaster//Event Calendar 2.0//EN
METHOD:PUBLISH
X-PUBLISHED-TTL:P3D
REFRESH-INTERVAL:P3D
CALSCALE:GREGORIAN
BEGIN:VEVENT
DTSTART:20240529T213000Z
DTEND:20240529T230000Z
X-MICROSOFT-CDO-ALLDAYEVENT:FALSE
SUMMARY:Shuffleboard Social!
DESCRIPTION:The IRC Chamber of Commerce and Young Professional Network (YPN) is now offering "Early Retirement Training" via Shuffleboard Social! The Vero Beach Shuffleboard Club will go over the rules of the game and then let us loose to play! $5 per person includes the gear\, lesson\, play and one can of Walking Tree beer. Teams of two may request to be with one another\, please note your desired partners name in the comments area of registration. See you on the court!
X-ALT-DESC;FMTTYPE=text/html:The IRC Chamber of Commerce and Young Professional Network (YPN) is now offering &quot\;Early Retirement Training&quot\; via Shuffleboard Social! The Vero Beach Shuffleboard Club will go over the rules of the game and then let us loose to play! $5 per person includes the gear\, lesson\, play and one can of Walking Tree beer. Teams of two may request to be with one another\, please note your desired partners name in the comments area of registration. See you on the court!
LOCATION:Pocahontas Park Shuffleboard Courts next to the IRC Chamber building at 1216 21st St. Vero Beach
UID:e.3449.6343
SEQUENCE:3
DTSTAMP:20260420T024105Z
URL:https://business.indianriverchamber.com/events/details/shuffleboard-social-6343
END:VEVENT

END:VCALENDAR
