BEGIN:VCALENDAR
VERSION:2.0
PRODID:-//ChamberMaster//Event Calendar 2.0//EN
METHOD:PUBLISH
X-PUBLISHED-TTL:P3D
REFRESH-INTERVAL:P3D
CALSCALE:GREGORIAN
BEGIN:VEVENT
DTSTART:20230523T190000Z
DTEND:20230523T200000Z
X-MICROSOFT-CDO-ALLDAYEVENT:FALSE
SUMMARY:Ribbon Cutting for Waterfall Restaurant
DESCRIPTION:Come welcome and sample some food at our new Downtown Vero Beach Restaurant\, Waterfall!  Ribbon Cutting is at 3:30PM.
X-ALT-DESC;FMTTYPE=text/html:<span style="font-size:20px\;">Come welcome and sample some food at our new Downtown Vero Beach Restaurant\, Waterfall!&nbsp\; Ribbon Cutting is at 3:30PM.</span>
LOCATION:2227 14th Ave\, Vero Beach\, FL 32960
UID:e.3449.5507
SEQUENCE:3
DTSTAMP:20260421T012656Z
URL:https://business.indianriverchamber.com/events/details/ribbon-cutting-for-waterfall-restaurant-5507
END:VEVENT

END:VCALENDAR
