BEGIN:VCALENDAR
VERSION:2.0
PRODID:-//ChamberMaster//Event Calendar 2.0//EN
METHOD:PUBLISH
X-PUBLISHED-TTL:P3D
REFRESH-INTERVAL:P3D
CALSCALE:GREGORIAN
BEGIN:VEVENT
DTSTART:20230511T210000Z
DTEND:20230511T220000Z
X-MICROSOFT-CDO-ALLDAYEVENT:FALSE
SUMMARY:Ribbon Cutting for Vero Beach Outlets & Cosmetics Warehouse
DESCRIPTION:Welcome Reception to introduce new Vero Beach Outlets Marketing Manager Karen Loeffler at Guest Services\, next to the Michael Kors Outlet\, from 4:30pm to 6:30pm. Sparkling beverages and hors d'oeuvres will be served. Karen will invite everyone to the 5:30pm Ribbon Cutting Ceremony at the Cosmetic Warehouse store\, located just a few doors away. A raffle prize ($50 gift card) will be awarded to one lucky guest after the Ceremony takes place. Stores are open until 7:00pm.
X-ALT-DESC;FMTTYPE=text/html:Welcome Reception to introduce new Vero Beach Outlets Marketing Manager Karen Loeffler at Guest Services\, next to the Michael Kors Outlet\, from 4:30pm to 6:30pm. Sparkling beverages and hors d&rsquo\;oeuvres will be served. Karen will invite everyone to the 5:30pm Ribbon Cutting Ceremony at the Cosmetic Warehouse store\, located just a few doors away. A raffle prize ($50 gift card) will be awarded to one lucky guest after the Ceremony takes place. Stores are open until 7:00pm.
LOCATION:Guest Services\, next to the Michael Kors Outlet 1824 94th Drive\, 32966
UID:e.3449.5496
SEQUENCE:3
DTSTAMP:20260421T012949Z
URL:https://business.indianriverchamber.com/events/details/ribbon-cutting-for-vero-beach-outlets-cosmetics-warehouse-5496
END:VEVENT

END:VCALENDAR
