BEGIN:VCALENDAR
VERSION:2.0
PRODID:-//ChamberMaster//Event Calendar 2.0//EN
METHOD:PUBLISH
X-PUBLISHED-TTL:P3D
REFRESH-INTERVAL:P3D
CALSCALE:GREGORIAN
BEGIN:VEVENT
DTSTART:20230502T210000Z
DTEND:20230502T220000Z
X-MICROSOFT-CDO-ALLDAYEVENT:FALSE
SUMMARY:Ribbon Cutting for United Against Poverty
DESCRIPTION:Leaders from Impact 100 will join United Against Poverty staff and community partners for the Ribbon Cutting of the new Going UP bus. The bus will provide free transportation services to and from the UP Center for community members There will be refreshments available.\n\nPlease join us!
X-ALT-DESC;FMTTYPE=text/html:<p data-pm-slice="1 1 []">Leaders from Impact 100 will join United Against Poverty staff and community partners for the Ribbon Cutting of the new Going UP bus. The bus will provide free transportation services to and from the UP Center for community members There will be refreshments available.</p>\n\n<p>Please join us!</p>\n
LOCATION:1400 27th Street\, Vero Beach\, 32960
UID:e.3449.5476
SEQUENCE:3
DTSTAMP:20260421T013002Z
URL:https://business.indianriverchamber.com/events/details/ribbon-cutting-for-united-against-poverty-5476
END:VEVENT

END:VCALENDAR
