BEGIN:VCALENDAR
VERSION:2.0
PRODID:-//ChamberMaster//Event Calendar 2.0//EN
METHOD:PUBLISH
X-PUBLISHED-TTL:P3D
REFRESH-INTERVAL:P3D
CALSCALE:GREGORIAN
BEGIN:VEVENT
DTSTART:20230912T210000Z
DTEND:20230912T220000Z
X-MICROSOFT-CDO-ALLDAYEVENT:FALSE
SUMMARY:Ribbon Cutting for Ocean Strings Studio
DESCRIPTION:Please join us at their new location and for a great evening of networking! \n\n*Overflow parking is next door in the Perkins parking lot
X-ALT-DESC;FMTTYPE=text/html:Please join us at their new location and for a great evening of networking!&nbsp\;<br />\n*Overflow parking is next door in the Perkins parking lot
LOCATION:1956 41st Avenue Vero Beach\, 32960
UID:e.3449.5716
SEQUENCE:3
DTSTAMP:20260425T155005Z
URL:https://business.indianriverchamber.com/events/details/ribbon-cutting-for-ocean-strings-studio-5716
END:VEVENT

END:VCALENDAR
