BEGIN:VCALENDAR
VERSION:2.0
PRODID:-//ChamberMaster//Event Calendar 2.0//EN
METHOD:PUBLISH
X-PUBLISHED-TTL:P3D
REFRESH-INTERVAL:P3D
CALSCALE:GREGORIAN
BEGIN:VEVENT
DTSTART:20230906T210000Z
DTEND:20230906T230000Z
X-MICROSOFT-CDO-ALLDAYEVENT:FALSE
SUMMARY:Ribbon Cutting for CareNet of Indian River County
DESCRIPTION:Join us for the ribbon cutting and open house of their new location and great networking!
X-ALT-DESC;FMTTYPE=text/html:Join us for the ribbon cutting and open house of their new location and great networking!
LOCATION:1355 37th Street\, #301 Vero Beach\, 32960
UID:e.3449.5715
SEQUENCE:3
DTSTAMP:20260422T084825Z
URL:https://business.indianriverchamber.com/events/details/ribbon-cutting-for-carenet-of-indian-river-county-5715
END:VEVENT

END:VCALENDAR
