BEGIN:VCALENDAR
VERSION:2.0
PRODID:-//ChamberMaster//Event Calendar 2.0//EN
METHOD:PUBLISH
X-PUBLISHED-TTL:P3D
REFRESH-INTERVAL:P3D
CALSCALE:GREGORIAN
BEGIN:VEVENT
DTSTART:20230504T213000Z
DTEND:20230504T233000Z
X-MICROSOFT-CDO-ALLDAYEVENT:FALSE
SUMMARY:Raymond James & Associates Private Client Group Meet and Greet
DESCRIPTION:Please come by for a drink\, tour the office and meet our new Branch Manager\, Clifford Mandody.\n\n\n\nRSVP to Holly.Kramer@RaymondJames.com or 772-231-7000
X-ALT-DESC;FMTTYPE=text/html:<span style="font-size:14px\;">Please come by for a drink\, tour the office and meet our new Branch Manager\, Clifford Mandody.</span><br />\n<br />\n<span style="font-size:14px\;">RSVP to Holly.Kramer@RaymondJames.com or 772-231-7000</span>
LOCATION:582 Beachland Boulevard\, Suite 200 Vero Beach\, 32963
UID:e.3449.5481
SEQUENCE:3
DTSTAMP:20260421T012950Z
URL:https://business.indianriverchamber.com/events/details/raymond-james-associates-private-client-group-meet-and-greet-5481
END:VEVENT

END:VCALENDAR
