BEGIN:VCALENDAR
VERSION:2.0
PRODID:-//ChamberMaster//Event Calendar 2.0//EN
METHOD:PUBLISH
X-PUBLISHED-TTL:P3D
REFRESH-INTERVAL:P3D
CALSCALE:GREGORIAN
BEGIN:VEVENT
DTSTART:20230524T120000Z
DTEND:20230524T130000Z
X-MICROSOFT-CDO-ALLDAYEVENT:FALSE
SUMMARY:Membership Orientation
DESCRIPTION:Join us for coffee and networking\, and learn more about your Chamber Membership!
X-ALT-DESC;FMTTYPE=text/html:<span style="font-size:16px\;"><span style="font-family:verdana\;">Join us for coffee and networking\, and learn more about your Chamber Membership!&nbsp\;</span></span>
LOCATION:Indian River County Chamber of Commerce: 1216 21st St. Vero Beach\, FL 32960
UID:e.3449.5488
SEQUENCE:3
DTSTAMP:20260421T012451Z
URL:https://business.indianriverchamber.com/events/details/membership-orientation-5488
END:VEVENT

END:VCALENDAR
