BEGIN:VCALENDAR
VERSION:2.0
PRODID:-//ChamberMaster//Event Calendar 2.0//EN
METHOD:PUBLISH
X-PUBLISHED-TTL:P3D
REFRESH-INTERVAL:P3D
CALSCALE:GREGORIAN
BEGIN:VEVENT
DTSTART:20230504T210000Z
DTEND:20230504T230000Z
X-MICROSOFT-CDO-ALLDAYEVENT:FALSE
SUMMARY:May the Fourth Be With You Pop up Party
DESCRIPTION:Calling all Star Wars' Fans! \n\nPlease join us for our May Pop Up Event: May the Fourth Be With You! Happy Hour\n\n\n\nWe will be at American Icon Brewery from 5:00 PM to 7:00 PM on 05/04/2023. \n\nCome have a beer on us! Your $10.00 ticket includes 1 beer and a personal portion of wings.
X-ALT-DESC;FMTTYPE=text/html:<p><strong><span style="font-family:verdana\;"><span style="font-size:20px\;"><span style="color:#FF0000\;"><u>Calling all Star Wars&#39\; Fans! </u></span><br />\n<span style="font-size:18px\;">Please join us for our May Pop Up Event: <span style="color:#0000CD\;">May the Fourth Be With You! <em>Happy Hour</em></span></span></span></span></strong><br />\n<br />\nWe will be at American Icon Brewery from <strong>5:00 PM to 7:00 PM</strong> <strong>on 05/04/2023. </strong></p>\n\n<p>Come have a beer on us! Your $10.00 ticket includes 1 beer and a personal portion of wings.</p>\n
LOCATION:1133 19th Pl\, Vero Beach\, FL 32960
UID:e.3449.5497
SEQUENCE:3
DTSTAMP:20260421T012751Z
URL:https://business.indianriverchamber.com/events/details/may-the-fourth-be-with-you-pop-up-party-5497
END:VEVENT

END:VCALENDAR
