BEGIN:VCALENDAR
VERSION:2.0
PRODID:-//ChamberMaster//Event Calendar 2.0//EN
METHOD:PUBLISH
X-PUBLISHED-TTL:P3D
REFRESH-INTERVAL:P3D
CALSCALE:GREGORIAN
BEGIN:VEVENT
DTSTART:20230511T120000Z
DTEND:20230511T210000Z
X-MICROSOFT-CDO-ALLDAYEVENT:FALSE
SUMMARY:Leadership Session 3
DESCRIPTION:Leadership Class of 2023
X-ALT-DESC;FMTTYPE=text/html:Leadership Class of 2023
LOCATION:
UID:e.3449.5426
SEQUENCE:3
DTSTAMP:20260421T012450Z
URL:https://business.indianriverchamber.com/events/details/leadership-session-3-5426
END:VEVENT

END:VCALENDAR
