BEGIN:VCALENDAR
VERSION:2.0
PRODID:-//ChamberMaster//Event Calendar 2.0//EN
METHOD:PUBLISH
X-PUBLISHED-TTL:P3D
REFRESH-INTERVAL:P3D
CALSCALE:GREGORIAN
BEGIN:VEVENT
DTSTART:20240130T220000Z
DTEND:20240130T230000Z
X-MICROSOFT-CDO-ALLDAYEVENT:FALSE
SUMMARY:Grand Opening Ribbon Cutting at Pillar Community Church-Celebration Grove Wedding and Event Venue!
DESCRIPTION:Join us as we welcome Vero Beach's newest wedding and event venue at Celebration Grove by Pillar Community Church. Tour their scenic property and beautiful indoor spaces\, enjoy refreshments by Wild Thyme Catering and visit with local event planning vendors. Ample parking is available\, so come by for a lovely evening celebration!
X-ALT-DESC;FMTTYPE=text/html:Join us as we welcome Vero Beach&#39\;s newest wedding and event venue at Celebration Grove by Pillar Community Church. Tour their scenic property and beautiful indoor spaces\, enjoy refreshments by Wild Thyme Catering and visit with local event planning vendors. Ample parking is available\, so come by for a lovely evening celebration!<br />\n&nbsp\;
LOCATION:3515 66th Ave. Vero Beach\, Fl 32967
UID:e.3449.5944
SEQUENCE:3
DTSTAMP:20260420T104535Z
URL:https://business.indianriverchamber.com/events/details/grand-opening-ribbon-cutting-at-pillar-community-church-celebration-grove-wedding-and-event-venue-5944
END:VEVENT

END:VCALENDAR
