BEGIN:VCALENDAR
VERSION:2.0
PRODID:-//ChamberMaster//Event Calendar 2.0//EN
METHOD:PUBLISH
X-PUBLISHED-TTL:P3D
REFRESH-INTERVAL:P3D
CALSCALE:GREGORIAN
BEGIN:VEVENT
DTSTART:20230510T143000Z
DTEND:20230510T160000Z
X-MICROSOFT-CDO-ALLDAYEVENT:FALSE
SUMMARY:Free Total Memory Workout
DESCRIPTION:Learn eight easy steps to maximum memory fitness at the Total Memory Workout\, presented by the Alzheimer & Parkinson Association of Indian River County. The free four-week class will be held Wednesdays from 10:30 a.m. to noon\, beginning May 10 at the North County Library\, 1001 Sebastian Boulevard in Sebastian. Designed for the cognitively well senior\, the class series offers individuals an opportunity to learn about memory\, a brain-healthy lifestyle\, and how to practice "memorcises" to build memory muscle. There is no charge for the class\; however\, individuals are asked to pre-register by calling 772-563-0505. For more information about Alzheimer & Parkinson Association\, visit www.AlzPark.org.
X-ALT-DESC;FMTTYPE=text/html:Learn eight easy steps to maximum memory fitness at the Total Memory Workout\, presented by the Alzheimer &amp\; Parkinson Association of Indian River County. The free four-week class will be held Wednesdays from 10:30 a.m. to noon\, beginning May 10 at the North County Library\, 1001 Sebastian Boulevard in Sebastian. Designed for the cognitively well senior\, the class series offers individuals an opportunity to learn about memory\, a brain-healthy lifestyle\, and how to practice &ldquo\;memorcises&rdquo\; to build memory muscle. There is no charge for the class\; however\, individuals are asked to pre-register by calling 772-563-0505. For more information about Alzheimer &amp\; Parkinson Association\, visit www.AlzPark.org.
LOCATION:North County Library
UID:e.3449.5494
SEQUENCE:3
DTSTAMP:20260421T012424Z
URL:https://business.indianriverchamber.com/events/details/free-total-memory-workout-5494
END:VEVENT

END:VCALENDAR
