BEGIN:VCALENDAR
VERSION:2.0
PRODID:-//ChamberMaster//Event Calendar 2.0//EN
METHOD:PUBLISH
X-PUBLISHED-TTL:P3D
REFRESH-INTERVAL:P3D
CALSCALE:GREGORIAN
BEGIN:VEVENT
DTSTART:20230831T123000Z
DTEND:20230831T180000Z
X-MICROSOFT-CDO-ALLDAYEVENT:FALSE
SUMMARY:End Overdose Summit
DESCRIPTION:Join us for a time of education\, awareness and remembrance\, as we come together to erase the stigma and honor those we have lost. Continental Breakfast and Lunch provided. First 50 people who register\, receive an End Overdose Shirt.
X-ALT-DESC;FMTTYPE=text/html:Join us for a time of education\, awareness and remembrance\, as we come together to erase the stigma and honor those we have lost. Continental Breakfast and Lunch provided. First 50 people who register\, receive an End Overdose Shirt.
LOCATION:Vero Beach Theatre Guild
UID:e.3449.5717
SEQUENCE:3
DTSTAMP:20260421T050859Z
URL:https://business.indianriverchamber.com/events/details/end-overdose-summit-5717
END:VEVENT

END:VCALENDAR
