BEGIN:VCALENDAR
VERSION:2.0
PRODID:-//ChamberMaster//Event Calendar 2.0//EN
METHOD:PUBLISH
X-PUBLISHED-TTL:P3D
REFRESH-INTERVAL:P3D
CALSCALE:GREGORIAN
BEGIN:VEVENT
DTSTART:20230526T220000Z
DTEND:20230527T000000Z
X-MICROSOFT-CDO-ALLDAYEVENT:FALSE
SUMMARY:Downtown Friday BINGO!
DESCRIPTION:Join us for an exciting game of Local Business Bingo at Main Street Vero Beach's Downtown Friday Event on May 26th! For just $5\, you can participate in a fun and interactive game that supports the local community.\n\nAnd the best part? The first 5 winners will receive an amazing prize! It's a chance to win something special while supporting the local economy.\n\nDon't miss out on this exciting event! Mark your calendars for May 26th and come join us for Local Business Bingo at Main Street Vero Beach's Downtown Friday Event. Grab your friends and family\, and let's play to win while supporting our local businesses. See you there!
X-ALT-DESC;FMTTYPE=text/html:<p apple="" background-color:="" color="" font-size:="" helvetica="" noto="" segoe="" span="" style="font-family: Söhne\, ui-sans-serif\, system-ui\, -apple-system\, " ui="" white-space:=""><span style="font-size:18px\;"><span style="font-family:verdana\;">Join us for an exciting game of Local Business Bingo at Main Street Vero Beach&#39\;s Downtown Friday Event on May 26th! For just $5\, you can participate in a fun and interactive game that supports the local community.</span></span></p>\n\n<p about="" and="" apple="" as="" background-color:="" beach="" bingo="" business.="" businesses="" card="" color="" community="" discover="" each="" engage="" explore="" font-size:="" have="" heart="" helvetica="" learn="" ll="" local="" make="" mark="" more="" noto="" of="" off="" on="" our="" p="" participating="" sample="" segoe="" spaces="" style="border: 0px solid rgb(217\, 217\, 227)\; box-sizing: border-box\; --tw-border-spacing-x:0\; --tw-border-spacing-y:0\; --tw-translate-x:0\; --tw-translate-y:0\; --tw-rotate:0\; --tw-skew-x:0\; --tw-skew-y:0\; --tw-scale-x:1\; --tw-scale-y:1\; --tw-pan-x: \; --tw-pan-y: \; --tw-pinch-zoom: \; --tw-scroll-snap-strictness:proximity\; --tw-ordinal: \; --tw-slashed-zero: \; --tw-numeric-figure: \; --tw-numeric-spacing: \; --tw-numeric-fraction: \; --tw-ring-inset: \; --tw-ring-offset-width:0px\; --tw-ring-offset-color:#fff\; --tw-ring-color:rgba(59\,130\,246\,0.5)\; --tw-ring-offset-shadow:0 0 transparent\; --tw-ring-shadow:0 0 transparent\; --tw-shadow:0 0 transparent\; --tw-shadow-colored:0 0 transparent\; --tw-blur: \; --tw-brightness: \; --tw-contrast: \; --tw-grayscale: \; --tw-hue-rotate: \; --tw-invert: \; --tw-saturate: \; --tw-sepia: \; --tw-drop-shadow: \; --tw-backdrop-blur: \; --tw-backdrop-brightness: \; --tw-backdrop-contrast: \; --tw-backdrop-grayscale: \; --tw-backdrop-hue-rotate: \; --tw-backdrop-invert: \; --tw-backdrop-opacity: \; --tw-backdrop-saturate: \; --tw-backdrop-sepia: \; margin: 1.25em 0px\; color: rgb(55\, 65\, 81)\; font-family: Söhne\, ui-sans-serif\, system-ui\, -apple-system\, " that="" the="" their="" they="" to="" ui="" unique.="" vero="" visit="" what="" white-space:="" with="" you="" your=""><span style="font-size:16px\;"><span style="font-family:verdana\;">And the best part? The first 5 winners will receive an amazing prize! It&#39\;s a chance to win something special while supporting the local economy.</span></span></p>\n\n<p a="" also="" and="" apple="" background-color:="" be="" bingo="" business="" businesses.="" but="" by="" color="" community="" connect="" contributing="" downtown="" font-size:="" for="" fun="" great="" helvetica="" is="" ll="" local="" not="" noto="" of="" only="" our="" p="" s="" segoe="" show="" small="" style="border: 0px solid rgb(217\, 217\, 227)\; box-sizing: border-box\; --tw-border-spacing-x:0\; --tw-border-spacing-y:0\; --tw-translate-x:0\; --tw-translate-y:0\; --tw-rotate:0\; --tw-skew-x:0\; --tw-skew-y:0\; --tw-scale-x:1\; --tw-scale-y:1\; --tw-pan-x: \; --tw-pan-y: \; --tw-pinch-zoom: \; --tw-scroll-snap-strictness:proximity\; --tw-ordinal: \; --tw-slashed-zero: \; --tw-numeric-figure: \; --tw-numeric-spacing: \; --tw-numeric-fraction: \; --tw-ring-inset: \; --tw-ring-offset-width:0px\; --tw-ring-offset-color:#fff\; --tw-ring-color:rgba(59\,130\,246\,0.5)\; --tw-ring-offset-shadow:0 0 transparent\; --tw-ring-shadow:0 0 transparent\; --tw-shadow:0 0 transparent\; --tw-shadow-colored:0 0 transparent\; --tw-blur: \; --tw-brightness: \; --tw-contrast: \; --tw-grayscale: \; --tw-hue-rotate: \; --tw-invert: \; --tw-saturate: \; --tw-sepia: \; --tw-drop-shadow: \; --tw-backdrop-blur: \; --tw-backdrop-brightness: \; --tw-backdrop-contrast: \; --tw-backdrop-grayscale: \; --tw-backdrop-hue-rotate: \; --tw-backdrop-invert: \; --tw-backdrop-opacity: \; --tw-backdrop-saturate: \; --tw-backdrop-sepia: \; margin: 1.25em 0px 0px\; color: rgb(55\, 65\, 81)\; font-family: Söhne\, ui-sans-serif\, system-ui\, -apple-system\, " support="" the="" to="" ui="" vibrancy="" vitality="" way="" white-space:="" with="" your=""><span style="font-size:16px\;"><span style="font-family:verdana\;">Don&#39\;t miss out on this exciting event! Mark your calendars for May 26th and come join us for Local Business Bingo at Main Street Vero Beach&#39\;s Downtown Friday Event. Grab your friends and family\, and let&#39\;s play to win while supporting our local businesses. See you there!</span></span></p>\n
LOCATION:21st street\, Vero Beach (Downtown Friday)
UID:e.3449.5482
SEQUENCE:3
DTSTAMP:20260421T012516Z
URL:https://business.indianriverchamber.com/events/details/downtown-friday-bingo-5482
END:VEVENT

END:VCALENDAR
