BEGIN:VCALENDAR
VERSION:2.0
PRODID:-//ChamberMaster//Event Calendar 2.0//EN
METHOD:PUBLISH
X-PUBLISHED-TTL:P3D
REFRESH-INTERVAL:P3D
CALSCALE:GREGORIAN
BEGIN:VEVENT
DTSTART:20230526T050000Z
DTEND:20230526T060000Z
X-MICROSOFT-CDO-ALLDAYEVENT:FALSE
SUMMARY:Celebration of Motion Education Series Part 6: Knee and Shoulder Sports Injuries
DESCRIPTION:Learn about advancements in orthopaedics and sports medicine at our Celebration of Motion education \n\nseminars. This free series will cover a wide range of topics to help you live your best life.\n\n\n\nAll presentations will be held at Cleveland Clinic Indian River Hospital\, 1000 36th Street\, Vero Beach.in Medical Education A&B - First floor\n\n\n\n \n\n	Tuesday\, May 9 | 4-5 p.m. Rotator Cuff Tear: G. Dean Harter\, MD\n	Thursday\, May 11 | 1-2 p.m. Hip Resurfacing: Peter Brooks\, MD\n	Wednesday\, May 17 | 4-5 p.m. Shoulder Replacement: G. Dean Harter\, MD\n	Friday\, May 19 | 10-11 a.m. Hip and Knee Replacement: George Nichols\, MD\n	Wednesday\, May 24 | 4-5 p.m. Partial Knee Replacement: G. Dean Harter\, MD\n	Friday\, May 26 | 1-2 p.m. Knee and Shoulder Sports Injuries: Clay Greeson\, MD\n\n Registration is required for these FREE events and light refreshments will be served.
X-ALT-DESC;FMTTYPE=text/html:<span style="color:#333333"><span style="font-family:arial\,sans-serif"><span style="font-size:10.0pt">Learn about advancements in orthopaedics and sports medicine at our Celebration of Motion education&nbsp\;</span></span></span><br />\n<span style="color:#333333"><span style="font-family:arial\,sans-serif"><span style="font-size:10.0pt">seminars. This free series will cover a wide range of topics to help you live your best life.<br />\n<br />\nAll presentations will be held at&nbsp\;Cleveland Clinic Indian River Hospital\,&nbsp\;1000 36th Street\, Vero Beach.in Medical Education A&amp\;B - First floor</span></span></span><br />\n<br />\n&nbsp\;\n<ul>\n	<li><span style="font-family:arial\,sans-serif"><span style="font-size:10.0pt">Tuesday\, May 9 | 4-5 p.m. Rotator Cuff Tear:&nbsp\;G. Dean Harter\, MD</span></span></li>\n	<li><span style="font-family:arial\,sans-serif"><span style="font-size:10.0pt">Thursday\, May 11 | 1-2 p.m.&nbsp\;Hip Resurfacing:&nbsp\;Peter Brooks\, MD</span></span></li>\n	<li><span style="font-family:arial\,sans-serif"><span style="font-size:10.0pt">Wednesday\, May 17 | 4-5 p.m.&nbsp\;Shoulder Replacement:&nbsp\;G. Dean Harter\, MD</span></span></li>\n	<li><span style="font-family:arial\,sans-serif"><span style="font-size:10.0pt">Friday\, May 19 | 10-11 a.m.&nbsp\;Hip and Knee Replacement:&nbsp\;George Nichols\, MD</span></span></li>\n	<li><span style="font-family:arial\,sans-serif"><span style="font-size:10.0pt">Wednesday\, May 24 | 4-5 p.m.&nbsp\;Partial Knee Replacement:&nbsp\;G. Dean Harter\, MD</span></span></li>\n	<li><span style="font-family:arial\,sans-serif"><span style="font-size:10.0pt">Friday\, May 26 | 1-2 p.m.&nbsp\;Knee and Shoulder Sports Injuries:&nbsp\;Clay Greeson\, MD</span></span></li>\n</ul>\n&nbsp\;<u><span style="color:#333333"><span style="font-family:arial\,sans-serif"><span style="font-size:10.0pt">Registration is required</span></span></span></u><span style="color:#333333"><span style="font-family:arial\,sans-serif"><span style="font-size:10.0pt">&nbsp\;for these&nbsp\;</span></span></span><strong><u><span style="color:#333333"><span style="font-family:arial\,sans-serif"><span style="font-size:10.0pt">FREE</span></span></span></u></strong>&nbsp\;<span style="color:#333333"><span style="font-family:arial\,sans-serif"><span style="font-size:10.0pt">events and light refreshments will be served.</span></span></span>
LOCATION:Cleveland Clinic Indian River Hospital: Medical Education A&B - First floor 1000 36th Street\, Vero Beach
UID:e.3449.5503
SEQUENCE:3
DTSTAMP:20260421T013124Z
URL:https://business.indianriverchamber.com/events/details/celebration-of-motion-education-series-part-6-knee-and-shoulder-sports-injuries-5503
END:VEVENT

END:VCALENDAR
