BEGIN:VCALENDAR
VERSION:2.0
PRODID:-//ChamberMaster//Event Calendar 2.0//EN
METHOD:PUBLISH
X-PUBLISHED-TTL:P3D
REFRESH-INTERVAL:P3D
CALSCALE:GREGORIAN
BEGIN:VEVENT
DTSTART:20230517T114500Z
DTEND:20230517T130000Z
X-MICROSOFT-CDO-ALLDAYEVENT:FALSE
SUMMARY:Business at Breakfast Sponsored by St Edwards School
DESCRIPTION:Join us and our Sponsor St. Edwards School for a wonderful morning of education and networking.
X-ALT-DESC;FMTTYPE=text/html:Join us and our Sponsor St. Edwards School for a wonderful morning of education and networking.
LOCATION:Vero Heritage Center and Indian River Citrus Museum 2140 14th Avenue Vero Beach\, FL 32960
UID:e.3449.5342
SEQUENCE:3
DTSTAMP:20260421T012817Z
URL:https://business.indianriverchamber.com/events/details/business-at-breakfast-sponsored-by-st-edwards-school-5342
END:VEVENT

END:VCALENDAR
