BEGIN:VCALENDAR
VERSION:2.0
PRODID:-//ChamberMaster//Event Calendar 2.0//EN
METHOD:PUBLISH
X-PUBLISHED-TTL:P3D
REFRESH-INTERVAL:P3D
CALSCALE:GREGORIAN
BEGIN:VEVENT
DTSTART:20240515T114500Z
DTEND:20240515T130000Z
X-MICROSOFT-CDO-ALLDAYEVENT:FALSE
SUMMARY:Business at Breakfast Sponsored by Habitat for Humanity
DESCRIPTION:Join us for a wonderful morning of networking with our sponsor Habitat for Humanity.
X-ALT-DESC;FMTTYPE=text/html:Join us for a wonderful morning of networking with our sponsor Habitat for Humanity.\n<div style="text-align: center\;">&nbsp\;</div>\n
LOCATION:Vero Heritage Center and Indian River Citrus Museum 2140 14th Avenue Vero Beach\, FL 32960
UID:e.3449.5648
SEQUENCE:3
DTSTAMP:20260420T061701Z
URL:https://business.indianriverchamber.com/events/details/business-at-breakfast-sponsored-by-habitat-for-humanity-5648
END:VEVENT

END:VCALENDAR
