BEGIN:VCALENDAR
VERSION:2.0
PRODID:-//ChamberMaster//Event Calendar 2.0//EN
METHOD:PUBLISH
X-PUBLISHED-TTL:P3D
REFRESH-INTERVAL:P3D
CALSCALE:GREGORIAN
BEGIN:VEVENT
DTSTART:20230816T113000Z
DTEND:20230816T130000Z
X-MICROSOFT-CDO-ALLDAYEVENT:FALSE
SUMMARY:Business at Breakfast Sponsored by Atlantic Classical Orchestra
DESCRIPTION:The Atlantic Classical Orchestra is entering its 34th season in Vero Beach and is a well-kept secret!  Join for breakfast to learn more about the ACO\, its upcoming season with Bruce Murdy\, the ACO Director of Development. As a special treat\, joining Bruce for a taste of what is to come this season is guest flutist Tina Apelgren of the ACO.
X-ALT-DESC;FMTTYPE=text/html:<span style="color:black\;"><span style="font-family:aptos\,sans-serif\;"><span style="font-size:12.0pt\;">The Atlantic Classical Orchestra is entering its 34<sup>th</sup>&nbsp\;season in Vero Beach and is a well-kept secret!&nbsp\; Join for breakfast to learn more about the ACO\, its upcoming season with Bruce Murdy\, the ACO Director of Development. As a special treat\, joining Bruce for a taste of what is to come this season is guest flutist Tina Apelgren of the ACO.</span></span></span>
LOCATION:Vero Heritage Center and Indian River Citrus Museum 2140 14th Avenue Vero Beach\, FL 32960
UID:e.3449.5345
SEQUENCE:3
DTSTAMP:20260421T065826Z
URL:https://business.indianriverchamber.com/events/details/business-at-breakfast-sponsored-by-atlantic-classical-orchestra-5345
END:VEVENT

END:VCALENDAR
