BEGIN:VCALENDAR
VERSION:2.0
PRODID:-//ChamberMaster//Event Calendar 2.0//EN
METHOD:PUBLISH
X-PUBLISHED-TTL:P3D
REFRESH-INTERVAL:P3D
CALSCALE:GREGORIAN
BEGIN:VEVENT
DTSTART:20271120T200000Z
DTEND:20271120T230000Z
X-MICROSOFT-CDO-ALLDAYEVENT:FALSE
SUMMARY:5th Annual Downtown Vero Tree Lighting Festival 2027 - 3PM-6PM
DESCRIPTION:Sponsorships available.\n\n\n\nTimeline: Coming Soon
X-ALT-DESC;FMTTYPE=text/html:Sponsorships available.<br />\n<br />\n<b>Timeline: Coming Soon</b><br />\n&nbsp\;
LOCATION:Pocahontas Park in Downtown Vero Beach
UID:e.3449.11500
SEQUENCE:3
DTSTAMP:20260419T144512Z
URL:https://business.indianriverchamber.com/events/details/5th-annual-downtown-vero-tree-lighting-festival-3pm-6pm-11500
END:VEVENT

END:VCALENDAR
